BEGIN:VCALENDAR
VERSION:2.0
PRODID:-//DP Pro Event Calendar//2.8.4//EN
BEGIN:VEVENT
UID:50154dff-0d57-4d19-958f-68d0fdaf0510
DTSTART;TZID=UTC:20160506T220000
DTEND;TZID=UTC:20260424T225900
DTSTAMP:20160506T220000
SUMMARY:(Bilbao) FANT22 FANT en Corto Vasco
DESCRIPTION:Al igual que en las últimas ediciones\, el cortometraje va a tener una presencia destacada en el Festival de Cine Fantástico de Bilbao – FANT 22\, gracias a la sección FANT EN CORTO\, que exhibirá 25 trabajos de ficción y animación\, escogidos de entre los más de 800 recibidos por la organización. Entre los cortos seleccionados\, hay 11 de realizadores vascos\, que se proyectarán mañana VIERNES\, día 6\, a partir de las 23:00 horas en el Teatro Campos\, dentro de la sección FANT EN CORTO VASCO. \r \n \r \n Los 11 trabajos a concurso que se podrán ver en su versión original con subtítulos en euskera y/o castellano son: \r \n \r \n “De-mente” de Lorenzo Ayuso \r \n “Artificial” de David Sañudo\r \n “La habitación” de Diego Kataryniuk\r \n “Duellum” de Tucker Dávila Wood\r \n “I Said I Never Talk about Politics” de Aitor Oñederra\r \n “Lost Village” de George Todria\r \n “False Flag” de Asier Urbieta.\r \n “The Devil on your Back” de Haritz Zubillaga.  \r \n “Fishura” de Yago Mateo \r \n “Naara” de Paul Urkijo\r \n “Cenizo” de Jon Mikel Caballero\r \n 	\r \n Programación FANT22
LOCATION:Teatro Campos\, Bilbao
URL:http://fantbilbao.eus/
ATTACH;FMTTYPE=image/jpeg:https://www.losmejorescortos.com/wp-content/uploads/2016/05/222-frame2_Artificial-768x399.jpg
END:VEVENT
END:VCALENDAR