BEGIN:VCALENDAR
VERSION:2.0
PRODID:-//DP Pro Event Calendar//2.8.4//EN
BEGIN:VEVENT
UID:70b5e150-c5c6-4491-a69f-f405700c0f02
DTSTART;TZID=UTC:20160506T190000
DTEND;TZID=UTC:20260424T225900
DTSTAMP:20160506T190000
SUMMARY:(Bilbao) Inauguración FANT22
DESCRIPTION:[caption id="attachment_4548" align="alignleft" width="212"] FANT22[/caption]\r \n \r \n El Festival de Cine Fantástico de Bilbao – FANT 22\, abrirá sus puertas esta tarde con la premiere europea de “The Hollow Point” (2016) de Gonzalo López-Gallego\, cineasta madrileño que dio el salto soñado a Hollywood\, donde se puso en manos de los hermanos Weinstein para rodar “Apolo 18”\, y posteriormente “Open Grave” (Mejor Guion en FANT 2014).  \r \n \r \n Programación FANT22
LOCATION:Teatro Campos
URL:http://fantbilbao.eus/web/
ATTACH;FMTTYPE=image/jpeg:https://www.losmejorescortos.com/wp-content/uploads/2016/03/cartel_fant22_hq-724x1024.jpg
END:VEVENT
END:VCALENDAR