BEGIN:VCALENDAR
VERSION:2.0
PRODID:-//DP Pro Event Calendar//2.8.4//EN
BEGIN:VEVENT
UID:b8384f5b-2fdb-4c62-85de-d0b238cae6f7
DTSTART;TZID=UTC;VALUE=DATE:20160304
DTEND;TZID=UTC;VALUE=DATE:20160305
DTSTAMP;VALUE=DATE:20160304
SUMMARY:7ª edición del Festival de Cine de Castilla-La Mancha
DESCRIPTION:Un total de 45 propuestas\, entre largometrajes\, cortos\, videoclips\, videoartes\, documentales y los cortos que forman parte de la sección Babycam\, aspiran a conseguir los máximos galardones en la 7ª edición del Festival de Cine de Castilla-La Mancha\, FECICAM\, que se celebrará entre el 4 y el 19 de marzo y que cuenta con el apoyo de la Academia de las Ciencias y las Artes Cinematográficas de España. \r \n \r \n Se realizó una selección entre 184  películas llegadas desde 18 países del mundo\, hay un total de 31 títulos que competirán en la Sección Oficial\, en la que están incluidas las categorías de Cortometraje Castilla-La Mancha\, Documental Castilla-La Mancha\, Videoclip Castilla-La Mancha\,  Videoarte y la sección Babycam\, en la que participan las propuestas de directores menores de 14 años. \r \n \r \n En la Sección Nacional\, por otro lado\, competirán un total de 12 cintas\, mientras que en la Sección Internacional han sido seleccionados tres trabajos procedentes de Francia y Estados Unidos.
LOCATION:
URL:http://www.fecicamfilmfestival.com/
ATTACH;FMTTYPE=image/jpeg:https://www.losmejorescortos.com/wp-content/uploads/2016/03/Cartel-7FECICAMreducido-725x1024.jpg
END:VEVENT
END:VCALENDAR