BEGIN:VCALENDAR
VERSION:2.0
PRODID:-//DP Pro Event Calendar//2.8.4//EN
BEGIN:VEVENT
UID:04bdd5d5-b8bc-4eea-81b2-1764d1ffd5af
DTSTART;TZID=UTC:20151119T190000
DTEND;TZID=UTC:20260424T210000
DTSTAMP:20151119T190000
SUMMARY:(Bilbao) ZINEBI 57 &#8211\; Concurso Internacional 9
DESCRIPTION:AZKUNA ZENTROA (Auditorio)\r \n 20:00 H. Nazioarteko Lehiaketa / Concurso Internacional 9\r \n \r \n \r \n \r \n 	“Chappin” Igor Slepov G.Bretaña Doc 10’00’’ \r \n \r \n 	“The Ring Thing” Friederike Jehn EE.UU. Fic 7’00’’\r \n  \r \n 	“Lucens” Marcel Barelli Suiza Ani 6’00’’ \r \n \r \n 	“Eco” Xacio Baño España Doc 20’00’’\r \n  \r \n 	“Phantasms Of The Living” Jean-Sébastien Bernard Francia Fic 6’00’’\r \n  \r \n 	“Teeth” Daniel Gray / Tom Bown G.Bretaña Ani 6’00’’\r \n \r \n 	“Fiesta De Pijamas” David Pantaleón España Fic 7’00’’\r \n  \r \n 	“oo” Ali Hayati Irán Fic 30’00’’\r \n  \r \n 	“Provas\, Exorcismos” Susana Nobre Portugal Fic 25’00’’\r \n \r \n \r \n  \r \n Programación de Zinebi 57
LOCATION:Azkuna Zentroa Auditorio    
URL:http://zinebi.com/57/
ATTACH;FMTTYPE=image/jpeg:https://www.losmejorescortos.com/wp-content/uploads/2015/11/ZINEBI57-cartel2-e1447587513501-1024x558.jpg
END:VEVENT
END:VCALENDAR