BEGIN:VCALENDAR
VERSION:2.0
PRODID:-//DP Pro Event Calendar//2.8.4//EN
BEGIN:VEVENT
UID:a04da901-a267-4041-8887-89399f75920c
DTSTART;TZID=UTC:20151118T190000
DTEND;TZID=UTC:20260424T210000
DTSTAMP:20151118T190000
SUMMARY:(Bilbao) ZINEBI 57 &#8211\; Concurso Internacional 8
DESCRIPTION:AZKUNA ZENTROA (Auditorio)\r \n 20:00 H. Nazioarteko Lehiaketa / Concurso Internacional 8 \r \n \r \n \r \n \r \n 	“La Impresión De Una Guerra” Camilo Restrepo Colombia/Francia  Doc 26’00’’\r \n  \r \n 	“Nadie Baila” Javier Loarte España Fic 19’00’’ \r \n \r \n 	“Fuego” Pablo Penchansky Argentina Ani 12’00’’\r \n  \r \n 	“Pebbles At Your Door” Vibeke Bryld Dinamarca Doc 19’00’’\r \n  \r \n 	“Fehér Farkas” Fanni Szilágyi Hungría Fic 19’00’’\r \n  \r \n 	“D’ombres & D’ailes..." Eleonora Marinoni\, Elice Meng Francia/Suiza Ani 13’00’’\r \n \r \n \r \n  \r \n Programación de Zinebi 57
LOCATION:Azkuna Zentroa Auditorio    
URL:http://zinebi.com/57/
ATTACH;FMTTYPE=image/jpeg:https://www.losmejorescortos.com/wp-content/uploads/2015/11/ZINEBI57-cartel2-e1447587513501-1024x558.jpg
END:VEVENT
END:VCALENDAR