BEGIN:VCALENDAR
VERSION:2.0
PRODID:-//DP Pro Event Calendar//2.8.4//EN
BEGIN:VEVENT
UID:9de483ef-e2e2-4277-9426-7ea3d1c02d84
DTSTART;TZID=UTC:20151117T190000
DTEND;TZID=UTC:20260424T210000
DTSTAMP:20151117T190000
SUMMARY:(Bilbao) ZINEBI 57 &#8211\; Concurso Internacional 7
DESCRIPTION:AZKUNA ZENTROA (Auditorio)\r \n 20:00 H. Nazioarteko Lehiaketa / Concurso Internacional 7\r \n \r \n \r \n  \r \n 	“Kacey Mottet Klein\, Naissance D’un Acteur” Ursula Meier Suiza Doc 14’00’’ \r \n \r \n 	“Ocaso” Emilio Belin Sandoval México Fic 16’00’’ \r \n \r \n 	“Simgyeong” Seunghee Kim Corea Del Sur Ani 3’00’’ \r \n \r \n 	“Marea Alta” Joaquín Ojeda Ferrero España Doc/Fic 9’00’’ \r \n \r \n 	“Renaître” Jean-François Ravagnan Bélgica Fic 23’00’’\r \n  \r \n 	“Sexy Laundry” Izabela Plucinska Alemania/Canadá /Polonia Ani 12’00’’\r \n  \r \n 	“Cuchipanderos” Agostina Guala Argentina Fic 19’00’’\r \n  \r \n 	“Sous Les Soutanes” Michel Zarazir Líbano Fic 20’00’’\r \n  \r \n \r \n Programación de Zinebi 57
LOCATION:Azkuna Zentroa Auditorio    
URL:http://zinebi.com/57/
ATTACH;FMTTYPE=image/jpeg:https://www.losmejorescortos.com/wp-content/uploads/2015/11/ZINEBI57-cartel2-e1447587513501-1024x558.jpg
END:VEVENT
END:VCALENDAR