BEGIN:VCALENDAR
VERSION:2.0
PRODID:-//DP Pro Event Calendar//2.8.4//EN
BEGIN:VEVENT
UID:62ed4a71-e342-4836-aeea-b6a8a97f7aac
DTSTART;TZID=UTC:20151116T190000
DTEND;TZID=UTC:20260424T210000
DTSTAMP:20151116T190000
SUMMARY:(Bilbao) ZINEBI 57 &#8211\; Concurso Internacional 6
DESCRIPTION:AZKUNA ZENTROA (Auditorio)\r \n 20:00 H. Nazioarteko Lehiaketa / Concurso Internacional 6 \r \n \r \n Cortometrajes\r \n \r \n \r \n 	“Un Cuento De Amor\, Locura Y Muerte” Mijael Bustos Chile Doc 22’00’’ \r \n \r \n 	 “Un Creux Dans Mon Coeur” Mees Peijnenburg Países Bajos Fic 9’00’’ \r \n \r \n 	“Chhaya” Debanjan Nandy G.Bretaña Ani 10’00’’ \r \n \r \n 	“Números Redondos” Rafael Martínez Moreno  Colombia Fic 14’00’’ \r \n \r \n 	“And If I Told You It Was You?” Jaime Refoyo España Doc 15’00’’ \r \n \r \n 	“Quantum” Orfeas Peretzis Grecia Fic 20’00’’\r \n  \r \n 	“Ramona” Andrei Creţulescu Rumanía Fic 21’00’’ \r \n \r \n \r \n \r \n Programación de Zinebi 57
LOCATION:Azkuna Zentroa Auditorio    
URL:http://zinebi.com/57/
ATTACH;FMTTYPE=image/jpeg:https://www.losmejorescortos.com/wp-content/uploads/2015/11/ZINEBI57-cartel2-e1447587513501-1024x558.jpg
END:VEVENT
END:VCALENDAR