BEGIN:VCALENDAR
VERSION:2.0
PRODID:-//DP Pro Event Calendar//2.8.4//EN
BEGIN:VEVENT
UID:48f22f0e-a4f2-4320-aca5-d8b23c53bfa3
DTSTART;TZID=UTC:20151115T190000
DTEND;TZID=UTC:20260424T210000
DTSTAMP:20151115T190000
SUMMARY:(Bilbao) ZINEBI 57 &#8211\; Concurso Internacional 5
DESCRIPTION:AZKUNA ZENTROA (Auditorio)\r \n 20:00 H. Nazioarteko Lehiaketa / Concurso Internacional 5 \r \n \r \n \r \n \r \n 	"Salers" Fernando Domínguez Argentina Doc 9’00’’\r \n  \r \n 	"Dona I Ocell" Nicolás Gutiérrez España Fic 21’00’’ \r \n \r \n 	"Planet ∑" Momoko Seto Francia Ani 12’00’’ \r \n \r \n 	"Maria Do Mar" João Rosas Portugal Fic 33’00’’ \r \n \r \n 	"Algo Que Decir" José Ángel Lázaro España Fic 17’00’’ \r \n \r \n 	"Ono" Genadzi Buto Rusia/Bielorrusia Ani 8’00’’ \r \n \r \n 	"Pandora" Chanion Kim Corea Del Sur Fic 11’00’’\r \n  \r \n \r \n \r \n \r \n Programación de Zinebi 57
LOCATION:Azkuna Zentroa Auditorio    
URL:http://zinebi.com/57/
ATTACH;FMTTYPE=image/jpeg:https://www.losmejorescortos.com/wp-content/uploads/2015/11/ZINEBI57-cartel2-e1447587513501-1024x558.jpg
END:VEVENT
END:VCALENDAR