BEGIN:VCALENDAR
VERSION:2.0
PRODID:-//DP Pro Event Calendar//2.8.4//EN
BEGIN:VEVENT
UID:3265bd49-9fec-48cc-b399-cc30b0a5c3a6
DTSTART;TZID=UTC:20151115T163000
DTEND;TZID=UTC:20260424T183000
DTSTAMP:20151115T163000
SUMMARY:(Bilbao) ZINEBI 57 &#8211\; Concurso Internacional 4
DESCRIPTION:AZKUNA ZENTROA (Auditorio)\r \n 17:30 h. NAZIOARTEKO LEHIAKETA / CONCURSO INTERNACIONAL 4\r \n \r \n Cortometrajes\r \n \r \n \r \n \r \n \r \n 	"O Teto Sobre Nós" Bruno Carboni Brasil Fic 22’00’’\r \n 	"Digpa Ning Alti (The Prologue To\r \n Our Dog-Eat-Dog)" Bor Ocampo Filipinas Fic 15’00’’\r \n 	"Edmond" Nina Gantz G.Bretaña Ani 9’00’’\r \n 	"Rearranger" Ewa Górzna Finlandia Fic 10’00’’\r \n 	"Gulliver" María Alché Argentina Fic 26’00’’\r \n 	"Skameiki No. 0458" Ivan Maximov Rusia Ani 6’00’’\r \n 	"Les Touristes" Heidi Hassan Suiza Fic 15’00’’\r \n \r \n \r \n Programación de Zinebi 57
LOCATION:Azkuna Zentroa Auditorio    
URL:http://zinebi.com/57/
ATTACH;FMTTYPE=image/jpeg:https://www.losmejorescortos.com/wp-content/uploads/2015/11/ZINEBI57-cartel2-e1447587513501-1024x558.jpg
END:VEVENT
END:VCALENDAR