BEGIN:VCALENDAR
VERSION:2.0
PRODID:-//DP Pro Event Calendar//2.8.4//EN
BEGIN:VEVENT
UID:4db6ff90-9be8-41cf-a8d3-afa06e620060
DTSTART;TZID=UTC:20151113T190000
DTEND;TZID=UTC:20260424T220000
DTSTAMP:20151113T190000
SUMMARY:Inauguración ZINEBI 57
DESCRIPTION:El Festival Internacional de Cine Documental y Cortometraje de Bilbao - ZINEBI 57 abrirá sus puertas en el bilbaíno Teatro Arriaga el próximo día 13 de noviembre\, a las 20:00 horas\, con un doble homenaje. Por un lado\, hará entrega del Mikeldi de Honor al cineasta bilbaíno Juan Ruiz Anchía –fotógrafo cinematográfico– en reconocimiento por la relevante dimensión internacional de su extensa trayectoria cinematográfica\, y se entregará un segundo Mikeldi de Honor\, a título póstumo\, al recientemente desaparecido actor Aitor Mazo. \r \n \r \n Como ya viene siendo habitual en las últimas ediciones del festival\, esta sesión inaugural se completará con la proyección de los cortometrajes vascos a concurso dentro de la Sección Oficial.
LOCATION:Teatro Arriaga\, Bilbao
URL:http://zinebi.com/57/proyeccion/concurso-internacional-1/
ATTACH;FMTTYPE=image/jpeg:https://www.losmejorescortos.com/wp-content/uploads/2015/11/ZINEBI57-cartel-512x1024.jpg
END:VEVENT
END:VCALENDAR