BEGIN:VCALENDAR
VERSION:2.0
PRODID:-//DP Pro Event Calendar//2.8.4//EN
BEGIN:VEVENT
UID:691ec00c-83c9-4646-a8be-604e6566e7ba
DTSTART;TZID=UTC:20150505T170000
DTEND;TZID=UTC:20260423T230000
DTSTAMP:20150505T170000
SUMMARY:(Bilbao\, España) PRE-FANT
DESCRIPTION:Estreno 2014\r \n Lugar: Sala BBK\r \n Fecha: Martes 5 Mayo\, 18:00h\r \n Película: Wolf Creek 2 (Greg Mclean)\r \n \r \n \r \n \r \n Título original: Wolf Creek 2 \r \n Año 2013\r \n Duración 107 min.\r \n País Australia \r \n Director Greg McLean\r \n \r \n \r \n \r \n \r \n Ciclo Giallo Italiano\r \n Lugar: Sala BBK\r \n Fecha: Martes 5 Mayo\, 20:00h\r \n Película: 4 Moscas sobre Terciopelo Gris (Darío Argento)\r \n \r \n Título original: Quatre mosche di velluto grigio \r \n Año 1971\r \n Duración 104 min.\r \n País Italia \r \n Director Dario Argento\r \n 
LOCATION:Sala BBK (Bilbao)
URL:http://fantbilbao.net/Fant2015/prefant
ATTACH;FMTTYPE=image/jpeg:https://www.losmejorescortos.com/wp-content/uploads/2015/03/Wolf_Creek_2-700926028-main.jpg
END:VEVENT
END:VCALENDAR