BEGIN:VCALENDAR
VERSION:2.0
PRODID:-//DP Pro Event Calendar//2.8.4//EN
BEGIN:VEVENT
UID:47d04d6d-0915-4047-aab5-b28c76268b60
DTSTART;TZID=UTC:20150503T170000
DTEND;TZID=UTC:20260423T230000
DTSTAMP:20150503T170000
SUMMARY:(Bilbao\, España) PRE-FANT
DESCRIPTION:Estreno 2014\r \n Lugar: Sala BBK\r \n Fecha: Domingo 3 Mayo\, 18:00h\r \n Película: Predestination (The Spierig Brothers)\r \n \r \n \r \n \r \n Título original: Predestination \r \n Año 2014\r \n Duración 97 min.\r \n País Australia \r \n Director Michael Spierig\, Peter Spierig\r \n \r \n \r \n \r \n Ciclo Giallo Italiano\r \n Lugar: Sala BBK\r \n Fecha: Domingo 3 Mayo\, 20:00h\r \n Película: El Pájaro de las Plumas de Cristal (Darío Argento)\r \n \r \n \r \n Título original: L'uccello dalle piume di cristallo \r \n Año 1970\r \n Duración 91 min.\r \n País Italia \r \n Director Dario Argento\r \n \r \n \r \n (Entrada libre hasta completar el auditorio de Sala BBK)\r \n \r \n La programación de PRE-FANT incluye un ciclo de cine ‘Giallo’ en colaboración con CASAITALIA\, Instituto Oficial de la Lengua y Cultura Italianas en Euskadi\, dedicado al reconocido cineasta Dario Argento. Esta sección incluye la proyección de tres de sus títulos más conocidos: El pájaro de las plumas de cristal (1970)\, El gato de las nueve colas (1971) y 4 moscas sobre terciopelo gris. Considerado como uno de los maestros del fantástico\, Dario Argento (Roma\, 1940) es uno de los más destacados realizadores del género ‘Giallo’\, quien lo popularizó y lo extendió fuera de Italia. Las tres películas programadas podrán verse en Sala BBK\, a las 20:00 horas\, los días 3\, 4 y 5 de mayo. \r \n \r \n PRE-FANT incluye además el estreno en pantalla grande de tres películas del género de producción reciente\, que no han pasado por salas comerciales del Estado\, como son: Predestination (Australia\, 2014) de The Spiering Brothers\, The Last Days on Mars (UK\, 2013)\, de Ruairi Robinson y Wolf Creek 2 (Australia\, 2014) de Greg Mclean. Todas ellas se proyectarán a las 18:00 horas\, también con entrada libre hasta completar el auditorio de Sala BBK. 
LOCATION:Sala BBK (Bilbao)
URL:http://fantbilbao.net/Fant2015/prefant
ATTACH;FMTTYPE=image/jpeg:https://www.losmejorescortos.com/wp-content/uploads/2015/03/Predestination-972600742-main.jpg
END:VEVENT
END:VCALENDAR