BEGIN:VCALENDAR
VERSION:2.0
PRODID:-//DP Pro Event Calendar//2.8.4//EN
BEGIN:VEVENT
UID:5462b10a-5e9b-4ce4-98c1-3b0d770007e0
DTSTART;TZID=UTC:20150502T180000
DTEND;TZID=UTC:20260423T230000
DTSTAMP:20150502T180000
SUMMARY:(Bilbao\, España) Pandilla FANT
DESCRIPTION:\r \n El Pre-FANT nos propone un “Regreso al Pasado”. Años 80. Las carteleras se llenan de grandes producciones en las que la aventura y los efectos especiales nos alucinaban durante semanas. Pandilla FANT nos invita a viajar en el tiempo y transformar la sala BBK en una experiencia de las sesiones de cine de los 80. Carteles\, merchandising\, gominolas… Una fiesta en la que “Cazafantasmas” y “Beetlejuice” serán nuestros anfitriones. Hasta podrás sacarte una foto con ellos\, si no acaban contigo antes. Vitorea\, abuchea o aplaude\, estás de nuevo en los 80\, cuando nada te parecía tan importante.\r \n \r \n Lugar: Sala BBK\r \n Fecha: Sábado 2 Mayo\, 19:00h\r \n Películas: Los Cazafantasmas y Bitelchus\r \n \r \n \r \n Bitelchus\r \n \r \n Título original: Beetlejuice \r \n Año 1988\r \n Duración 93 min.\r \n País Estados Unidos \r \n Director Tim Burton\r \n \r \n \r \n \r \n Los Cazafantasmas\r \n \r \n Título original: Ghostbusters (Ghost Busters) \r \n Año 1984\r \n Duración 107 min.\r \n País Estados Unidos \r \n Director Ivan Reitman\r \n 
LOCATION:Sala BBK (Bilbao)
URL:http://fantbilbao.net/Fant2015/prefant
ATTACH;FMTTYPE=image/jpeg:https://www.losmejorescortos.com/wp-content/uploads/2015/03/logo-pandillaFANT1.jpg
END:VEVENT
END:VCALENDAR