BEGIN:VCALENDAR
VERSION:2.0
PRODID:-//DP Pro Event Calendar//2.8.4//EN
BEGIN:VEVENT
UID:910c394d-cd81-4c05-b3f2-8e2748c53dda
DTSTART;TZID=UTC:20141220T200000
DTEND;TZID=UTC:20260423T230000
DTSTAMP:20141220T200000
SUMMARY:El día más corto\, Bilbao
DESCRIPTION:[caption id="attachment_3150" align="alignleft" width="300"] El día más Corto[/caption]\r \n EL DIA MÁS CORTO [ED+C] es un evento internacional cuyo objetivo principal es reivindicar el cortometraje. El área de Cultura y Educación y los festivales Zinebi y FANT\, han querido sumarse a la iniciativa\, con la organización también en Bilbao\, de una gran fiesta del cortometraje\, que se celebrará los DÍAS 19\, 20 Y 21\, y que incluye la proyección de 26 películas\, además de música y el encuentro con directores de cortos.\r \n \r \n El sábado\, DÍA 20\, Pabellón 6 acogerá el principal evento del fin de semana\, con una gran fiesta en la que se ha programado una panorámica del cortometraje en Euskadi\, con una doble proyección: por un lado\, algunos cortometrajes míticos de gran recorrido en festivales\, como pueden ser Birdboy\, de Pedro Rivero o Las horas muertas\, de Haritz Zubillaga\, y\, por otro lado\, algunos cortometrajes recién estrenados como Anómalo\, de Aitor Gutiérrez (Gran Premio del Cine Vasco en Zinebi 2014)\, Oscar Desafinado de Mikel Alvariño (Premio al Mejor Cortometraje en Sitges 2014)\, Malas Vibraciones (Mejor Corto Vasco en el festival de cortos de Gasteiz - CORTADA)\, Don Miguel de Kote Camacho o El Bosque negro de Paul Urkijo. \r \n \r \n Las proyecciones se completará con la participación de sus realizadores en mesas de debate moderadas\, respectivamente\, por el actor Ramón Barea (Premio Nacional de Teatro) y el actor y también director de cortometrajes\, Lander Otaola. Como colofón a la fiesta del cine\, el público podrá disfrutar con la sesión musical “The FILMak Countdown”. \r \n 
LOCATION:Pabellón 6
URL:http://pabellon6.org/2014/11/el-dia-mas-corto/
ATTACH;FMTTYPE=image/jpeg:https://www.losmejorescortos.com/wp-content/uploads/2014/12/logo.jpg
END:VEVENT
END:VCALENDAR