BEGIN:VCALENDAR
VERSION:2.0
PRODID:-//DP Pro Event Calendar//2.8.4//EN
BEGIN:VEVENT
UID:c6037c6d-b344-48d6-a2ff-8ad4308a448d
DTSTART;TZID=UTC:20141114T190000
DTEND;TZID=UTC:20260423T230000
DTSTAMP:20141114T190000
SUMMARY:Zinebi 56 Bilbao &#8211\; Festival Internacional de Cine Documental y Cortometraje de Bilbao
DESCRIPTION:[caption id="attachment_2921" align="alignleft" width="149"] Cartel Zinebi 56[/caption]\r \n El Festival Internacional de Cine Documental y Cortometraje de Bilbao (ZINEBI 56) abrirá sus puertas en el bilbaíno Teatro Arriaga el viernes 14 de noviembre a las 20:00 horas\, con un homenaje a la actriz argentina Cecilia Roth\, que recibirá uno de los Mikeldis de Honor del festival como reconocimiento a una intérprete con una carrera plena de aciertos dramáticos y a la mezcla de intuición\, riesgo y coherencia que ha mostrado en la elección de sus personajes. \r \n \r \n El segundo Mikeldi de Honor de esta edición se entregará al prestigioso e internacionalmente galardonado realizador y guionista japonés Hirokazu Kore-Eda\, en reconocimiento a la originalidad de su filmografía\, al compromiso humanista que inspira sus películas y a su personal y relevante significación en el panorama del cine actual. Kore-Eda recogerá el galardón el día 19 de noviembre a las 20:00 horas\, en el auditorio del Museo Guggenheim Bilbao\, antes de la proyección de su largometraje “De tal padre\, tal hijo” (2013)\, que obtuvo el Premio del Jurado en el Festival de Cannes.\r \n \r \n Un total de 65 películas tomarán parte en la Sección Oficial\, en la que competirán por los Mikeldis de Oro y Plata en los tres géneros establecidos por el certamen: ficción (30)\, documental (17) y animación (18). Entre las películas seleccionadas a concurso destacan 18 producciones estatales\, entre ellas 7 de realizadores vascos\, que\, como viene siendo habitual\, se proyectarán también en el acto inaugural del festival\, en el Teatro Arriaga. \r \n \r \n Toda la información sobre la cartelera\, horarios\, precios y descuentos especiales está ya disponible en la web del festival: Zinebi56
LOCATION:Bilbao
URL:http://zinebi.com/56/
ATTACH;FMTTYPE=image/jpeg:https://www.losmejorescortos.com/wp-content/uploads/2014/11/cartel-zinebi-56.jpg
END:VEVENT
END:VCALENDAR