BEGIN:VCALENDAR
VERSION:2.0
PRODID:-//DP Pro Event Calendar//2.8.4//EN
BEGIN:VEVENT
UID:71213a73-4b39-439d-bb6b-9a7d7cb4003a
DTSTART;TZID=UTC;VALUE=DATE:20140725
DTEND;TZID=UTC;VALUE=DATE:20140726
DTSTAMP;VALUE=DATE:20140725
SUMMARY:XVII Festival Internacional de Cine Guanajuato (GIFF)
DESCRIPTION:El Festival Internacional de Cine Guanajuato (GIFF) –antes conocido como Expresión en Corto– nace de un deseo común: la creación de una cultura cinematográfica sólida y abierta a sus diversas manifestaciones.\r \n \r \n Fundado en 1998 por Sarah Hoch\, actual directora del Festival\, en su primera edición\, recibió 38 cortometrajes\; en su XV aniversario 2012\, se contabilizaron más de 3 mil obras en competencia en las categorías de Documental\, Corto Ficción\, Corto Experimental\, Corto Animación y Largometraje Ópera Prima.\r \n \r \n Los jóvenes creadores que asisten al Festival participan en conferencias\, mesas redondas y reuniones de trabajo con autoridades y personalidades de la industria nacional e internacional. Es un laboratorio de ideas que fomenta una relación sana y estimulante entre cineastas\, todos ellos encuentran en el GIFF un sentido de pertenencia\, un ambiente de comunidad y de colaboración.\r \n \r \n Para el GIFF es primordial que los proyectos cinematográficos se materialicen. Por eso\, el festival fomenta el desarrollo de guiones cinematográficos\, y otros proyectos fílmicos y audiovisuales\, a fin de que en el corto plazo logren el apoyo financiero necesario de diferentes instancias.\r \n \r \n Asimismo\, año con año se homenajea a quienes han contribuido destacadamente en la construcción de nuestra cinematografía\, haciendo posible el encuentro de grandes figuras nacionales e internacionales con nuestros creadores y público en general.\r \n \r \n El festival continuará en la misma ruta\, con el espíritu renovado y su lema resonando más fuerte que nunca: “Más cine\, ¡por favor!”.
LOCATION:San Miguel de Allende y Guanajuato Capital\, México
URL:http://www.giff.mx/
ATTACH;FMTTYPE=image/jpeg:https://www.losmejorescortos.com/wp-content/uploads/2014/04/Festival-internacional-de-cine-de-guanajuato-GIFF.jpg
END:VEVENT
END:VCALENDAR